BEGIN:VCALENDAR

VERSION:2.0

PRODID:-//hacksw/handcal//NONSGML v1.0//EN

BEGIN:VEVENT

UID:98cc3a5122e858a2744329aab0c572cb

DTSTAMP:20260424T143240Z

DTSTART:20210311T160000

DTEND:20210311T163000

SUMMARY:L2920464 - 30 Raintree Boulevard, LITTLE MOUNTAIN QLD 4551

LOCATION:30 Raintree Boulevard, LITTLE MOUNTAIN QLD 4551

END:VEVENT

END:VCALENDAR