BEGIN:VCALENDAR

VERSION:2.0

PRODID:-//hacksw/handcal//NONSGML v1.0//EN

BEGIN:VEVENT

UID:a3735b5ae9b23745056f676714a83779

DTSTAMP:20260424T143239Z

DTSTART:20210306T140000

DTEND:20210306T143000

SUMMARY:L2921880 - 6/47 Verney Street, KINGS BEACH QLD 4551

LOCATION:6/47 Verney Street, KINGS BEACH QLD 4551

END:VEVENT

END:VCALENDAR