BEGIN:VCALENDAR

VERSION:2.0

PRODID:-//hacksw/handcal//NONSGML v1.0//EN

BEGIN:VEVENT

UID:52a6e623ea65d1281bb4e32104792d84

DTSTAMP:20200301T014750Z

DTSTART:19700101T120000

DTEND:19700101T123000

SUMMARY:10117836 - CALOUNDRA, 39/38 Maloja Ave- Watermark

LOCATION:CALOUNDRA, 39/38 Maloja Ave- Watermark

END:VEVENT

END:VCALENDAR