BEGIN:VCALENDAR

VERSION:2.0

PRODID:-//hacksw/handcal//NONSGML v1.0//EN

BEGIN:VEVENT

UID:806a71823c8354f08f3bbe569f1d5d4a

DTSTAMP:20200301T014553Z

DTSTART:19700101T130000

DTEND:19700101T133000

SUMMARY:21017081 - CALOUNDRA, 3/38 Maloja Ave 'Watermark Apartments'

LOCATION:CALOUNDRA, 3/38 Maloja Ave 'Watermark Apartments'

END:VEVENT

END:VCALENDAR